BEGIN:VCALENDAR
VERSION:2.0
PRODID:gruene-bornheim-ostend.de
METHOD:PUBLISH
BEGIN:VTIMEZONE
TZID:Europe/Berlin
X-LIC-LOCATION:Europe/Berlin
BEGIN:DAYLIGHT
TZOFFSETFROM:+0100
TZOFFSETTO:+0200
TZNAME:CEST
DTSTART:19700329T020000
RRULE:FREQ=YEARLY;INTERVAL=1;BYDAY=-1SU;BYMONTH=3
END:DAYLIGHT
BEGIN:STANDARD
TZOFFSETFROM:+0200
TZOFFSETTO:+0100
TZNAME:CET
DTSTART:19701025T030000
RRULE:FREQ=YEARLY;INTERVAL=1;BYDAY=-1SU;BYMONTH=10
END:STANDARD
END:VTIMEZONE
BEGIN:VEVENT
UID:779552402e85dc6bef8327f3a77bcb13@gruene-bornheim-ostend.de
URL;VALUE=URI:https://gruene-bornheim-ostend.de/termine/podiumsdiskussion
 -mit-den-ob-kandidatinnen/
LOCATION:Theater Die KÄS, Waldschmidtstr. 19, Ostend
SUMMARY:Podiumsdiskussion mit den OB-Kandidat*innen
DESCRIPTION;ALTREP="data:text/html,%0A%3Cp%3EDie%20T%C3%BCrkische%20Gemei
 nde%20Hessen%20l%C3%A4dt%20ein%2C%20der%20Eintritt%20ist%20frei.%20Alle%2
 0weiteren%20Details%20auf%20der%20%3Ca%20href%3D%22https%3A%2F%2Ftg-hesse
 n.de%2Fpodiumsdiskussion14-2-23%22%20target%3D%22_blank%22%20rel%3D%22nor
 eferrer%20noopener%22%3EVeranstaltungsseite%3C%2Fa%3E.%3C%2Fp%3E%0A":Die 
 Türkische Gemeinde Hessen lädt ein\, der Eintritt ist frei. Alle weiter
 en Details auf der Veranstaltungsseite.
CLASS:PUBLIC
DTSTART;TZID=Europe/Berlin:20230214T183000
DTEND;TZID=Europe/Berlin:20230214T193000
DTSTAMP:20260421T095328
END:VEVENT
END:VCALENDAR