BEGIN:VCALENDAR
VERSION:2.0
PRODID:gruene-bornheim-ostend.de
METHOD:PUBLISH
BEGIN:VTIMEZONE
TZID:Europe/Berlin
X-LIC-LOCATION:Europe/Berlin
BEGIN:DAYLIGHT
TZOFFSETFROM:+0100
TZOFFSETTO:+0200
TZNAME:CEST
DTSTART:19700329T020000
RRULE:FREQ=YEARLY;INTERVAL=1;BYDAY=-1SU;BYMONTH=3
END:DAYLIGHT
BEGIN:STANDARD
TZOFFSETFROM:+0200
TZOFFSETTO:+0100
TZNAME:CET
DTSTART:19701025T030000
RRULE:FREQ=YEARLY;INTERVAL=1;BYDAY=-1SU;BYMONTH=10
END:STANDARD
END:VTIMEZONE
BEGIN:VEVENT
UID:3a361c218a1c5d54c94cbae4c51eebd8@gruene-bornheim-ostend.de
URL;VALUE=URI:https://gruene-bornheim-ostend.de/termine/robert-habeck-in-
 offenbach/
LOCATION:Wilhelmplatz, Offenbach
SUMMARY:Robert Habeck in Offenbach
DESCRIPTION;ALTREP="data:text/html,%0A%3Cp%3EIm%20Rahmen%20seiner%20Wahlk
 ampftour%20%22Bereit%2C%20weil%20Ihr%20es%20sein.%22%20zur%20Bundestagswa
 hl%20am%2026.09.2021%20wird%20Robert%20Habeck%20am%20Mo.%2C%2016.%20Augus
 t%202021%2C%20in%20der%20Zeit%20von%2017%20bis%2018%3A30%20h%2C%20in%20Of
 fenbach%2C%20Wilhelmplatz%2C%20sein.%20%3C%2Fp%3E%0A":Im Rahmen seiner Wa
 hlkampftour "Bereit\, weil Ihr es sein." zur Bundestagswahl am 26.09.2021
  wird Robert Habeck am Mo.\, 16. August 2021\, in der Zeit von 17 bis 18:
 30 h\, in Offenbach\, Wilhelmplatz\, sein.
CLASS:PUBLIC
DTSTART;TZID=Europe/Berlin:20210816T170000
DTEND;TZID=Europe/Berlin:20210816T183000
DTSTAMP:20260421T094544
END:VEVENT
END:VCALENDAR