BEGIN:VCALENDAR
VERSION:2.0
PRODID:gruene-bornheim-ostend.de
METHOD:PUBLISH
BEGIN:VTIMEZONE
TZID:Europe/Berlin
X-LIC-LOCATION:Europe/Berlin
BEGIN:DAYLIGHT
TZOFFSETFROM:+0100
TZOFFSETTO:+0200
TZNAME:CEST
DTSTART:19700329T020000
RRULE:FREQ=YEARLY;INTERVAL=1;BYDAY=-1SU;BYMONTH=3
END:DAYLIGHT
BEGIN:STANDARD
TZOFFSETFROM:+0200
TZOFFSETTO:+0100
TZNAME:CET
DTSTART:19701025T030000
RRULE:FREQ=YEARLY;INTERVAL=1;BYDAY=-1SU;BYMONTH=10
END:STANDARD
END:VTIMEZONE
BEGIN:VEVENT
UID:60d825b3d6c697e906ed043b2708b82b@gruene-bornheim-ostend.de
URL;VALUE=URI:https://gruene-bornheim-ostend.de/termine/sitzung-ortsbeira
 t-4-6/
LOCATION:
SUMMARY:Sitzung Ortsbeirat 4
DESCRIPTION;ALTREP="data:text/html,%0A%3Cp%3ESitzungsort%20und%20Tagesord
 nung%20auf%20%3Ca%20href%3D%22https%3A%2F%2Ffrankfurt.de%2Fservice-und-ra
 thaus%2Fstadtpolitik%2Fortsbeiraete%2Fortsbeirat-04%22%3Efrankfurt.d%3C%2
 Fa%3Ee%3C%2Fp%3E%0A":Sitzungsort und Tagesordnung auf frankfurt.de
CLASS:PUBLIC
DTSTART;TZID=Europe/Berlin:20240625T193000
DTEND;TZID=Europe/Berlin:20240625T203000
DTSTAMP:20260419T144139
END:VEVENT
END:VCALENDAR