BEGIN:VCALENDAR
VERSION:2.0
PRODID:gruene-bornheim-ostend.de
METHOD:PUBLISH
BEGIN:VTIMEZONE
TZID:Europe/Berlin
X-LIC-LOCATION:Europe/Berlin
BEGIN:DAYLIGHT
TZOFFSETFROM:+0100
TZOFFSETTO:+0200
TZNAME:CEST
DTSTART:19700329T020000
RRULE:FREQ=YEARLY;INTERVAL=1;BYDAY=-1SU;BYMONTH=3
END:DAYLIGHT
BEGIN:STANDARD
TZOFFSETFROM:+0200
TZOFFSETTO:+0100
TZNAME:CET
DTSTART:19701025T030000
RRULE:FREQ=YEARLY;INTERVAL=1;BYDAY=-1SU;BYMONTH=10
END:STANDARD
END:VTIMEZONE
BEGIN:VEVENT
UID:619dde1c1ff58d6f05323f2b146f5ea4@gruene-bornheim-ostend.de
URL;VALUE=URI:https://gruene-bornheim-ostend.de/termine/sitzung-ortsbeira
 t-bornheim-ostend-4/
LOCATION:Zoogesellschaftshaus, Alfred-Brehm-Platz 16, Frankfurt
SUMMARY:Sitzung Ortsbeirat Bornheim-Ostend 4
DESCRIPTION;ALTREP="data:text/html,%0A%3Cp%3E8.%20Sitzung%20des%20Ortsbei
 rat%204%20Bornheim-Ostend%20Di%2C%2015.02.2022%2C%20ab%2019%3A30%20Uhr%20
 im%20Zoogesellschaftshaus.%3C%2Fp%3E%0A":8. Sitzung des Ortsbeirat 4 Born
 heim-Ostend Di\, 15.02.2022\, ab 19:30 Uhr im Zoogesellschaftshaus.
CLASS:PUBLIC
DTSTART;TZID=Europe/Berlin:20220215T193000
DTEND;TZID=Europe/Berlin:20220215T220000
DTSTAMP:20260421T094717
END:VEVENT
END:VCALENDAR