BEGIN:VCALENDAR
VERSION:2.0
PRODID:gruene-bornheim-ostend.de
METHOD:PUBLISH
BEGIN:VTIMEZONE
TZID:Europe/Berlin
X-LIC-LOCATION:Europe/Berlin
BEGIN:DAYLIGHT
TZOFFSETFROM:+0100
TZOFFSETTO:+0200
TZNAME:CEST
DTSTART:19700329T020000
RRULE:FREQ=YEARLY;INTERVAL=1;BYDAY=-1SU;BYMONTH=3
END:DAYLIGHT
BEGIN:STANDARD
TZOFFSETFROM:+0200
TZOFFSETTO:+0100
TZNAME:CET
DTSTART:19701025T030000
RRULE:FREQ=YEARLY;INTERVAL=1;BYDAY=-1SU;BYMONTH=10
END:STANDARD
END:VTIMEZONE
BEGIN:VEVENT
UID:c7a274fd6399e7ab409497d35bb2f35c@gruene-bornheim-ostend.de
URL;VALUE=URI:https://gruene-bornheim-ostend.de/termine/stadtteilgruppen-
 treffen-4/
LOCATION:
SUMMARY:Stadtteilgruppen-Treffen
DESCRIPTION;ALTREP="data:text/html,%0A%3Cp%3EHiermit%20laden%20wir%20euch
 %20herzlich%20zu%20unserem%20%3Cstrong%3En%C3%A4chsten%20Stadtteilgruppen
 -Treffen%20%3C%2Fstrong%3Eein.%20%3C%2Fp%3E%0A%0A%0A%0A%3Cp%3ENeben%20Upd
 ates%20aus%20dem%20Ortsbeirat%20wird%20an%20dem%20Abend%20vor%20allem%20d
 as%20Thema%20%E2%80%9EOberb%C3%BCrgermeister%20Feldmann%E2%80%9C%20im%20F
 okus%20stehen.%20Nach%20dem%20nun%20angek%C3%BCndigten%20R%C3%BCcktritt%2
 0f%C3%BCr%20Januar%202023%20und%20dem%20teilweisen%20R%C3%BCcktritt%20vom
 %20R%C3%BCcktritt%20hei%C3%9Ft%20es%20nun%20gemeinsam%20zu%20schauen%20wi
 e%20aktuell%20der%20Status%20Quo%20ist%2C%20welche%20Schritte%20wir%20als
 %20n%C3%A4chstes%20einleiten%20werden%20und%20wie%20wir%20uns%20f%C3%BCr%
 20die%20anstehende%20Wahl%20aufstellen%20wollen.%20Wir%20freuen%20uns%20s
 ehr%2C%20dass%20wir%20Dimitrios%20Bakakis%2C%20Co-Fraktionssprecher%20im%
 20R%C3%B6mer%2C%20an%20diesem%20Abend%20als%20Gast%20begr%C3%BC%C3%9Fen%2
 0d%C3%BCrfen.%3C%2Fp%3E%0A%0A%0A%0A%3Cp%3EAufgrund%20der%20steigenden%20I
 nzidenzen%20einerseits%20und%20einem%20m%C3%B6glichst%20niedrigschwellige
 n%20Zugang%20f%C3%BCr%20diesen%20interessanten%20Abend%20andererseits%2C%
 20wird%20das%20Stadtteilgruppen-Treffen%20digital%20stattfinden.%20Wie%20
 immer%20haben%20wir%20daf%C3%BCr%20unseren%20Online-Raum%20reserviert.%20
 Der%20Link%20ist%20in%20der%20Einladungs-Mails%20hinterlegt%20oder%20kann
 %20bei%20den%20%3Ca%20href%3D%22https%3A%2F%2Fwww.gruene-bornheim-ostend.
 de%2Fkontakt%2F%22%20target%3D%22_blank%22%20rel%3D%22noreferrer%20noopen
 er%22%3EStadtteilgruppen-Sprecher%2Ainnen%3C%2Fa%3E%20angefragt%20werden.
 %20%3C%2Fp%3E%0A%0A%0A%0A%3Cp%3EWir%20starten%20gemeinsam%20um%20%3Cstron
 g%3E20%3A00%20Uhr%3C%2Fstrong%3E%20in%20die%20Veranstaltung.%20Alle%20%3C
 strong%3ENeumitglieder%20und%20Interessierte%20k%C3%B6nnen%20sich%20sehr%
 20gern%20bereits%20ab%2019%3A30%20Uhr%20einw%C3%A4hlen%3C%2Fstrong%3E%20f
 %C3%BCr%20einen%20ersten%20gemeinsamen%20Austausch%20und%20die%20M%C3%B6g
 lichkeit%20Fragen%20zu%20stellen%20und%20einander%20kennen%20zu%20lernen.
 %3C%2Fp%3E%0A%0A%0A%0A%3Cp%3EWir%20freuen%20uns%20auf%20den%20gemeinsamen
 %20Abend%20mit%20euch.%3C%2Fp%3E%0A":Hiermit laden wir euch herzlich zu u
 nserem nächsten Stadtteilgruppen-Treffen ein.\n\nNeben Updates aus dem O
 rtsbeirat wird an dem Abend vor allem das Thema „Oberbürgermeister Fel
 dmann“ im Fokus stehen. Nach dem nun angekündigten Rücktritt für Jan
 uar 2023 und dem teilweisen Rücktritt vom Rücktritt heißt es nun gemei
 nsam zu schauen wie aktuell der Status Quo ist\, welche Schritte wir als 
 nächstes einleiten werden und wie wir uns für die anstehende Wahl aufst
 ellen wollen. Wir freuen uns sehr\, dass wir Dimitrios Bakakis\, Co-Frakt
 ionssprecher im Römer\, an diesem Abend als Gast begrüßen dürfen.\n\n
 Aufgrund der steigenden Inzidenzen einerseits und einem möglichst niedri
 gschwelligen Zugang für diesen interessanten Abend andererseits\, wird d
 as Stadtteilgruppen-Treffen digital stattfinden. Wie immer haben wir daf
 ür unseren Online-Raum reserviert. Der Link ist in der Einladungs-Mails 
 hinterlegt oder kann bei den Stadtteilgruppen-Sprecher*innen angefragt we
 rden.\n\nWir starten gemeinsam um 20:00 Uhr in die Veranstaltung. Alle Ne
 umitglieder und Interessierte können sich sehr gern bereits ab 19:30 Uhr
  einwählen für einen ersten gemeinsamen Austausch und die Möglichkeit 
 Fragen zu stellen und einander kennen zu lernen.\n\nWir freuen uns auf de
 n gemeinsamen Abend mit euch.
CLASS:PUBLIC
DTSTART;TZID=Europe/Berlin:20220721T193000
DTEND;TZID=Europe/Berlin:20220721T220000
DTSTAMP:20260421T095242
END:VEVENT
END:VCALENDAR