BEGIN:VCALENDAR
VERSION:2.0
PRODID:gruene-bornheim-ostend.de
METHOD:PUBLISH
BEGIN:VTIMEZONE
TZID:Europe/Berlin
X-LIC-LOCATION:Europe/Berlin
BEGIN:DAYLIGHT
TZOFFSETFROM:+0100
TZOFFSETTO:+0200
TZNAME:CEST
DTSTART:19700329T020000
RRULE:FREQ=YEARLY;INTERVAL=1;BYDAY=-1SU;BYMONTH=3
END:DAYLIGHT
BEGIN:STANDARD
TZOFFSETFROM:+0200
TZOFFSETTO:+0100
TZNAME:CET
DTSTART:19701025T030000
RRULE:FREQ=YEARLY;INTERVAL=1;BYDAY=-1SU;BYMONTH=10
END:STANDARD
END:VTIMEZONE
BEGIN:VEVENT
UID:7c1dadd97dc9d132a8b938c46c99635f@gruene-bornheim-ostend.de
URL;VALUE=URI:https://gruene-bornheim-ostend.de/termine/stadtteilgruppent
 reffen-6/
LOCATION:Taverne Nico, Saalburgallee 1, Frankfurt
SUMMARY:Stadtteilgruppentreffen
DESCRIPTION;ALTREP="data:text/html,%0A%3Cp%3EDas%20n%C3%A4chste%20Stadtte
 ilgruppentreffen%20findet%20abweichend%20an%20einem%20Donnerstag%20statt%
 3A%20Zum%20Wahlkampf-Finale%20laden%20wir%20Euch%20herzlich%20ein%20am%20
 Donnerstag%2C%20den%2026.%20Februar%202026%20in%20die%20Taverne%20Nico%20
 in%20der%20Saalburgallee%201.%20%3C%2Fp%3E%0A%0A%0A%0A%3Cp%3EIn%20geselli
 ger%20Runde%20wollen%20wir%20nochmal%20Kraft%20und%20Motivation%20f%C3%BC
 r%20die%20folgenden%20Aktionen%20der%20Kommunalwahl%202026%20tanken.%20Wi
 r%20freuen%20uns%20auf%20Eure%20rege%20Teilnahme%21%20%3C%2Fp%3E%0A":Das 
 nächste Stadtteilgruppentreffen findet abweichend an einem Donnerstag st
 att: Zum Wahlkampf-Finale laden wir Euch herzlich ein am Donnerstag\, den
  26. Februar 2026 in die Taverne Nico in der Saalburgallee 1.\n\nIn gesel
 liger Runde wollen wir nochmal Kraft und Motivation für die folgenden Ak
 tionen der Kommunalwahl 2026 tanken. Wir freuen uns auf Eure rege Teilnah
 me!
CLASS:PUBLIC
DTSTART;TZID=Europe/Berlin:20260226T200000
DTEND;TZID=Europe/Berlin:20260226T220000
DTSTAMP:20260421T095200
END:VEVENT
END:VCALENDAR